BEGIN:VCALENDAR
VERSION:2.0
PRODID:-//Twin Flame Gallery - ECPv6.15.16//NONSGML v1.0//EN
CALSCALE:GREGORIAN
METHOD:PUBLISH
X-WR-CALNAME:Twin Flame Gallery
X-ORIGINAL-URL:https://www.twinflamegallery.com
X-WR-CALDESC:Events for Twin Flame Gallery
REFRESH-INTERVAL;VALUE=DURATION:PT1H
X-Robots-Tag:noindex
X-PUBLISHED-TTL:PT1H
BEGIN:VTIMEZONE
TZID:America/Denver
BEGIN:DAYLIGHT
TZOFFSETFROM:-0700
TZOFFSETTO:-0600
TZNAME:MDT
DTSTART:20230312T090000
END:DAYLIGHT
BEGIN:STANDARD
TZOFFSETFROM:-0600
TZOFFSETTO:-0700
TZNAME:MST
DTSTART:20231105T080000
END:STANDARD
BEGIN:DAYLIGHT
TZOFFSETFROM:-0700
TZOFFSETTO:-0600
TZNAME:MDT
DTSTART:20240310T090000
END:DAYLIGHT
BEGIN:STANDARD
TZOFFSETFROM:-0600
TZOFFSETTO:-0700
TZNAME:MST
DTSTART:20241103T080000
END:STANDARD
BEGIN:DAYLIGHT
TZOFFSETFROM:-0700
TZOFFSETTO:-0600
TZNAME:MDT
DTSTART:20250309T090000
END:DAYLIGHT
BEGIN:STANDARD
TZOFFSETFROM:-0600
TZOFFSETTO:-0700
TZNAME:MST
DTSTART:20251102T080000
END:STANDARD
BEGIN:DAYLIGHT
TZOFFSETFROM:-0700
TZOFFSETTO:-0600
TZNAME:MDT
DTSTART:20260308T090000
END:DAYLIGHT
BEGIN:STANDARD
TZOFFSETFROM:-0600
TZOFFSETTO:-0700
TZNAME:MST
DTSTART:20261101T080000
END:STANDARD
END:VTIMEZONE
BEGIN:VEVENT
DTSTART;TZID=America/Denver:20240907T160000
DTEND;TZID=America/Denver:20240907T174500
DTSTAMP:20260422T162529
CREATED:20240906T140106Z
LAST-MODIFIED:20240906T140131Z
UID:1754-1725724800-1725731100@www.twinflamegallery.com
SUMMARY:Meet La Jean Greeson
DESCRIPTION:Saturday September 7th at Twin Flame Gallery! \n4pm – 5:45pm
URL:https://www.twinflamegallery.com/event/meet-la-jean-greeson/
LOCATION:Twin Flame Gallery\, 102 South Fourth Street\, Victor\, 80860\, United States
END:VEVENT
BEGIN:VEVENT
DTSTART;TZID=America/Denver:20251102T120000
DTEND;TZID=America/Denver:20251102T160000
DTSTAMP:20260422T162529
CREATED:20251027T150343Z
LAST-MODIFIED:20251027T150343Z
UID:1810-1762084800-1762099200@www.twinflamegallery.com
SUMMARY:Lois Petersen Art Show 11/2
DESCRIPTION:Art show at the Twin Flame Gallery \nSunday\, November 2nd \n12pm – 4pm \nExperience a lifetime of creative expression featuring Southern Colorado landscapes\, western themes\, and pastels as her specialty\, with oils and extra art supplies on display. Come celebrate the artistry color and spirit of the West through the eyes of Lois Petersen. \n 
URL:https://www.twinflamegallery.com/event/lois-petersen-art-show-11-2/
LOCATION:Twin Flame Gallery\, 102 South Fourth Street\, Victor\, 80860\, United States
END:VEVENT
END:VCALENDAR